BEGIN:VCALENDAR
PRODID:-//eluceo/ical//2.0/EN
VERSION:2.0
CALSCALE:GREGORIAN
BEGIN:VEVENT
UID:b65f67c6a4907b0112b721207e8927da
DTSTAMP:20260425T203419Z
SUMMARY:Actuación de Jimband
DESCRIPTION:Actuación de Jimband\, una propuesta musical enérgica y parti
 cipativa que combina ritmo\, diversión e interacción con el público. Un
  espectáculo pensado para hacer disfrutar a todas las edades\, invitando 
 a moverse\, escuchar y vivir la música en directo en un ambiente festivo.
  \n\nPúblico: Para toda la familia \n\nTipo de actividad: Escenario 
 musical \n\nHorario: 12:45h 
DTSTART;TZID=Europe/Madrid:20260509T124500
DTEND;TZID=Europe/Madrid:20260509T133000
LOCATION:Casanova - Còrsega
END:VEVENT
BEGIN:VTIMEZONE
TZID:Europe/Madrid
BEGIN:STANDARD
DTSTART:20260101T223419
TZNAME:CET
TZOFFSETTO:+0100
TZOFFSETFROM:+0100
END:STANDARD
BEGIN:DAYLIGHT
DTSTART:20260329T030000
TZNAME:CEST
TZOFFSETTO:+0200
TZOFFSETFROM:+0100
END:DAYLIGHT
BEGIN:STANDARD
DTSTART:20261025T020000
TZNAME:CET
TZOFFSETTO:+0100
TZOFFSETFROM:+0200
END:STANDARD
END:VTIMEZONE
END:VCALENDAR
