BEGIN:VCALENDAR
PRODID:-//eluceo/ical//2.0/EN
VERSION:2.0
CALSCALE:GREGORIAN
BEGIN:VEVENT
UID:8177ba018d5db0f3ac6314def1e87ca9
DTSTAMP:20260425T203426Z
SUMMARY:Actuación de Pony Menut
DESCRIPTION:Actuación de Pony Menut\, un espectáculo familiar lleno de m
 úsica\, humor y participación\, pensado para pequeños y mayores. Una pr
 opuesta lúdica y cercana que invita a cantar\, bailar y disfrutar juntos 
 en un ambiente festivo y acogedor. \n\nPúblico: Para toda la familia \
 n\nTipo de actividad: Escenario musical \n\nHorario: 11:00h 
DTSTART;TZID=Europe/Madrid:20260509T110000
DTEND;TZID=Europe/Madrid:20260509T120000
LOCATION:Casanova - Còrsega
END:VEVENT
BEGIN:VTIMEZONE
TZID:Europe/Madrid
BEGIN:STANDARD
DTSTART:20260101T223426
TZNAME:CET
TZOFFSETTO:+0100
TZOFFSETFROM:+0100
END:STANDARD
BEGIN:DAYLIGHT
DTSTART:20260329T030000
TZNAME:CEST
TZOFFSETTO:+0200
TZOFFSETFROM:+0100
END:DAYLIGHT
BEGIN:STANDARD
DTSTART:20261025T020000
TZNAME:CET
TZOFFSETTO:+0100
TZOFFSETFROM:+0200
END:STANDARD
END:VTIMEZONE
END:VCALENDAR
