BEGIN:VCALENDAR
PRODID:-//eluceo/ical//2.0/EN
VERSION:2.0
CALSCALE:GREGORIAN
BEGIN:VEVENT
UID:7282ddbb3948de2e989d33c64694d096
DTSTAMP:20260425T203511Z
SUMMARY:Actuación del Mago Sitgman
DESCRIPTION:El Mag Stigman\, galardonado con el Premi Teatre Barcelona\, pr
 esenta **“Fabulós”**\, una propuesta familiar vital y colorista donde
  la magia se combina con coreografías\, malabares y mucha participación 
 activa. Es un espectáculo con un ritmo trepidante que garantiza diversió
 n\, energía positiva e incluso algunos de los mejores efectos de matemagi
 a. Una gran fiesta interactiva pensada para llenar esta jornada de buen am
 biente y hacer disfrutar a público de todas las edades.  \n\nPúblico:
  Para toda la familia \n\nTipo de actividad: Escenario deportivo y cul
 tural \n\nHorario: 12:00h 
DTSTART;TZID=Europe/Madrid:20260509T120000
DTEND;TZID=Europe/Madrid:20260509T124500
LOCATION:Casanova - Còrsega
END:VEVENT
BEGIN:VTIMEZONE
TZID:Europe/Madrid
BEGIN:STANDARD
DTSTART:20260101T223511
TZNAME:CET
TZOFFSETTO:+0100
TZOFFSETFROM:+0100
END:STANDARD
BEGIN:DAYLIGHT
DTSTART:20260329T030000
TZNAME:CEST
TZOFFSETTO:+0200
TZOFFSETFROM:+0100
END:DAYLIGHT
BEGIN:STANDARD
DTSTART:20261025T020000
TZNAME:CET
TZOFFSETTO:+0100
TZOFFSETFROM:+0200
END:STANDARD
END:VTIMEZONE
END:VCALENDAR
