BEGIN:VCALENDAR
PRODID:-//eluceo/ical//2.0/EN
VERSION:2.0
CALSCALE:GREGORIAN
BEGIN:VEVENT
UID:52e4860264cc0559f09008d9810cee42
DTSTAMP:20260425T203930Z
SUMMARY:Adéntrate en la investigación: el Biobanco te abre las puertas
DESCRIPTION:Inscripción obligatoria\n\n\n\nInscripciones turno 10:15h\n\n\
 nInscripciones turno 11:15h\n\n\nInscripciones turno 12:15h\n\n\nInscripci
 ones turno 13:15h\n\n\n\nVisita guiada al Biobanco del Hospital Clínic-ID
 IBAPS para conocer los laboratorios\, los circuitos de trabajo y cómo se 
 recogen\, procesan y almacenan muestras biológicas al servicio de la inve
 stigación biomédica. \n\nPúblico: Para toda la familia \n\nTipo de 
 actividad: Visitas guiadas \n\nPlazas disponibles: 20 (por turno)\n\nD
 uración: 1h 
DTSTART;TZID=Europe/Madrid:20260509T101500
DTEND;TZID=Europe/Madrid:20260509T131500
LOCATION:IDIBAPS-CEK
END:VEVENT
BEGIN:VTIMEZONE
TZID:Europe/Madrid
BEGIN:STANDARD
DTSTART:20260101T223930
TZNAME:CET
TZOFFSETTO:+0100
TZOFFSETFROM:+0100
END:STANDARD
BEGIN:DAYLIGHT
DTSTART:20260329T030000
TZNAME:CEST
TZOFFSETTO:+0200
TZOFFSETFROM:+0100
END:DAYLIGHT
BEGIN:STANDARD
DTSTART:20261025T020000
TZNAME:CET
TZOFFSETTO:+0100
TZOFFSETFROM:+0200
END:STANDARD
END:VTIMEZONE
END:VCALENDAR
