BEGIN:VCALENDAR
PRODID:-//eluceo/ical//2.0/EN
VERSION:2.0
CALSCALE:GREGORIAN
BEGIN:VEVENT
UID:2176efcadb59a44f4c803dd843cae5d9
DTSTAMP:20260425T202741Z
SUMMARY:Amics del Clínic
DESCRIPTION:El programa Amics del Clínic tendrá una carpa informativa con
  flores y globos\; las personas asistentes podrán inscribirse como volunt
 arias o realizar aportaciones al fondo general sin destinarlas a proyectos
  específicos. \n\nPúblico: Para toda la familia \n\nTipo de activida
 d: Carpas (en la Plaza) \n\nHorario: 9:30-14:30 
DTSTART;TZID=Europe/Madrid:20260509T093000
DTEND;TZID=Europe/Madrid:20260509T143000
LOCATION:Casanova - Rosselló
END:VEVENT
BEGIN:VTIMEZONE
TZID:Europe/Madrid
BEGIN:STANDARD
DTSTART:20260101T222741
TZNAME:CET
TZOFFSETTO:+0100
TZOFFSETFROM:+0100
END:STANDARD
BEGIN:DAYLIGHT
DTSTART:20260329T030000
TZNAME:CEST
TZOFFSETTO:+0200
TZOFFSETFROM:+0100
END:DAYLIGHT
BEGIN:STANDARD
DTSTART:20261025T020000
TZNAME:CET
TZOFFSETTO:+0100
TZOFFSETFROM:+0200
END:STANDARD
END:VTIMEZONE
END:VCALENDAR
