BEGIN:VCALENDAR
PRODID:-//eluceo/ical//2.0/EN
VERSION:2.0
CALSCALE:GREGORIAN
BEGIN:VEVENT
UID:382d121ea4807d66aedca5bd368b7643
DTSTAMP:20260423T191601Z
SUMMARY:Antes de morir querría. Muro participativo y tertulia
DESCRIPTION:Actividad abierta a todo el mundo con un muro participativo y t
 ertulias de reflexión sobre la muerte y el morir\, inspirada en el proyec
 to “Before I die”. Fomenta hablar del tema con naturalidad\, romper ta
 búes y expresar deseos con respeto y calidez comunitaria. \n\nPúblico:
  Para toda la familia \n\nTipo de actividad: Carpas (en la calzada) \
 n\nHorario: 9:30-14:30 
DTSTART;TZID=Europe/Madrid:20260509T093000
DTEND;TZID=Europe/Madrid:20260509T143000
LOCATION:Casanova - Provença
END:VEVENT
BEGIN:VTIMEZONE
TZID:Europe/Madrid
BEGIN:STANDARD
DTSTART:20260101T211601
TZNAME:CET
TZOFFSETTO:+0100
TZOFFSETFROM:+0100
END:STANDARD
BEGIN:DAYLIGHT
DTSTART:20260329T030000
TZNAME:CEST
TZOFFSETTO:+0200
TZOFFSETFROM:+0100
END:DAYLIGHT
BEGIN:STANDARD
DTSTART:20261025T020000
TZNAME:CET
TZOFFSETTO:+0100
TZOFFSETFROM:+0200
END:STANDARD
END:VTIMEZONE
END:VCALENDAR
