BEGIN:VCALENDAR
PRODID:-//eluceo/ical//2.0/EN
VERSION:2.0
CALSCALE:GREGORIAN
BEGIN:VEVENT
UID:a24e720de163714426b19cb50f17757a
DTSTAMP:20260425T204057Z
SUMMARY:#APlenaVista: aprender a mirar la salud hepática en la atención a
 l VIH
DESCRIPTION:Mesa redonda #APlenaVista: reflexión sobre la salud hepática 
 en la atención al VIH\, abordando su visibilidad\, prioridad y comunicaci
 ón. Participan investigadores\, especialistas en VIH y representantes com
 unitarios para explorar cambios prácticos y acciona \n\nPúblico: Adulto
 s en general \n\nTipo de actividad: Las voces de la salud \n\nHorario: 1
 1:30 
DTSTART;TZID=Europe/Madrid:20260509T113000
DTEND;TZID=Europe/Madrid:20260509T120000
LOCATION:Casanova - Provença
END:VEVENT
BEGIN:VTIMEZONE
TZID:Europe/Madrid
BEGIN:STANDARD
DTSTART:20260101T224057
TZNAME:CET
TZOFFSETTO:+0100
TZOFFSETFROM:+0100
END:STANDARD
BEGIN:DAYLIGHT
DTSTART:20260329T030000
TZNAME:CEST
TZOFFSETTO:+0200
TZOFFSETFROM:+0100
END:DAYLIGHT
BEGIN:STANDARD
DTSTART:20261025T020000
TZNAME:CET
TZOFFSETTO:+0100
TZOFFSETFROM:+0200
END:STANDARD
END:VTIMEZONE
END:VCALENDAR
