BEGIN:VCALENDAR
PRODID:-//eluceo/ical//2.0/EN
VERSION:2.0
CALSCALE:GREGORIAN
BEGIN:VEVENT
UID:3444770e4a713cb9bdfa5ca67172b690
DTSTAMP:20260425T204057Z
SUMMARY:Aprende a prevenir las fracturas por fragilidad
DESCRIPTION:Mesa informativa y taller práctico de prevención de caídas y
  fracturas\, dirigido especialmente a personas mayores. Las caídas son un
  problema importante de salud pública\, por lo que es fundamental informa
 r a la población sobre sus consecuencias y cómo prevenirlas. \n\nPúbli
 co: Adultos en general \n\nTipo de actividad: Carpas (en la calzada) 
 \n\nHorario: 9:30-14:30 
DTSTART;TZID=Europe/Madrid:20260509T093000
DTEND;TZID=Europe/Madrid:20260509T143000
LOCATION:Casanova - Còrsega
END:VEVENT
BEGIN:VTIMEZONE
TZID:Europe/Madrid
BEGIN:STANDARD
DTSTART:20260101T224057
TZNAME:CET
TZOFFSETTO:+0100
TZOFFSETFROM:+0100
END:STANDARD
BEGIN:DAYLIGHT
DTSTART:20260329T030000
TZNAME:CEST
TZOFFSETTO:+0200
TZOFFSETFROM:+0100
END:DAYLIGHT
BEGIN:STANDARD
DTSTART:20261025T020000
TZNAME:CET
TZOFFSETTO:+0100
TZOFFSETFROM:+0200
END:STANDARD
END:VTIMEZONE
END:VCALENDAR
