BEGIN:VCALENDAR
PRODID:-//eluceo/ical//2.0/EN
VERSION:2.0
CALSCALE:GREGORIAN
BEGIN:VEVENT
UID:5f78ca64215f5fb5bc9c0781e1f7f9f1
DTSTAMP:20260425T203604Z
SUMMARY:Bacterias\, parques infantiles y prevención
DESCRIPTION:El proyecto RAMBLA investiga si las bacterias de los parques in
 fantiles de Barcelona pueden causar infecciones gastrointestinales en niñ
 os\, desde la perspectiva de Una Sola Salud\, y promueve la participación
  ciudadana en medidas de prevención.\n\nPúblico: Adultos en general\n\nT
 ipo de actividad: Las voces de la salud\n\nHorario: 11:00
DTSTART;TZID=Europe/Madrid:20260509T110000
DTEND;TZID=Europe/Madrid:20260509T113000
LOCATION:Casanova - Provença
END:VEVENT
BEGIN:VTIMEZONE
TZID:Europe/Madrid
BEGIN:STANDARD
DTSTART:20260101T223604
TZNAME:CET
TZOFFSETTO:+0100
TZOFFSETFROM:+0100
END:STANDARD
BEGIN:DAYLIGHT
DTSTART:20260329T030000
TZNAME:CEST
TZOFFSETTO:+0200
TZOFFSETFROM:+0100
END:DAYLIGHT
BEGIN:STANDARD
DTSTART:20261025T020000
TZNAME:CET
TZOFFSETTO:+0100
TZOFFSETFROM:+0200
END:STANDARD
END:VTIMEZONE
END:VCALENDAR
