BEGIN:VCALENDAR
PRODID:-//eluceo/ical//2.0/EN
VERSION:2.0
CALSCALE:GREGORIAN
BEGIN:VEVENT
UID:8ef1542124f17024443748279d0d008b
DTSTAMP:20260425T204057Z
SUMMARY:Bioimpresión 3D en acción: tratando enfermedades neurodegenerativ
 as
DESCRIPTION:Taller familiar de bioimpresión 3D: descubre cómo funciona\, 
 observa demostraciones y estructuras impresas\, participa en un mural cole
 ctivo y juegos interactivos\, y entiende cómo esta tecnología puede avan
 zar en enfermedades neurodegenerativas. \n\nPúblico: Para toda la famil
 ia \n\nTipo de actividad: Carpas (en la calzada) \n\nHorario: 9:30-14
 :30 
DTSTART;TZID=Europe/Madrid:20260509T093000
DTEND;TZID=Europe/Madrid:20260509T143000
LOCATION:Casanova - Còrsega
END:VEVENT
BEGIN:VTIMEZONE
TZID:Europe/Madrid
BEGIN:STANDARD
DTSTART:20260101T224057
TZNAME:CET
TZOFFSETTO:+0100
TZOFFSETFROM:+0100
END:STANDARD
BEGIN:DAYLIGHT
DTSTART:20260329T030000
TZNAME:CEST
TZOFFSETTO:+0200
TZOFFSETFROM:+0100
END:DAYLIGHT
BEGIN:STANDARD
DTSTART:20261025T020000
TZNAME:CET
TZOFFSETTO:+0100
TZOFFSETFROM:+0200
END:STANDARD
END:VTIMEZONE
END:VCALENDAR
