BEGIN:VCALENDAR
PRODID:-//eluceo/ical//2.0/EN
VERSION:2.0
CALSCALE:GREGORIAN
BEGIN:VEVENT
UID:3b72f0acaeead0ccfb248f9811f403a5
DTSTAMP:20260425T215826Z
SUMMARY:Caminando por la salud pulmonar
DESCRIPTION:Inscripción obligatoria\n\n\n\nInscripciones turno 9:30h\n\n\n
 \nUna caminata guiada y participativa que conectará el futuro y el presen
 te del Hospital Clínic. Saldremos desde el Parc d'Investigació Biomèdic
 a de Barcelona (PRBB) -C/ Doctor Aiguader\, 88- hasta el actual centro en
  el Eixample Izquierdo\, recorriendo la ciudad a pie y descubriendo este i
 tinerario simbólico. La actividad se realizará en grupos reducidos\, aco
 mpañados por voluntarios\, en un ambiente cercano y accesible. Una experi
 encia para caminar\, conversar e imaginar juntos el Clínic del futuro. \
 n\nPúblico: Para toda la familia \n\nTipo de actividad: Actividad dep
 ortiva \n\nPunto de encuentro: Parc d'Investigació Biomèdica de Barcelo
 na (PRBB). C/ Doctor Aiguader\, 88
DTSTART;TZID=Europe/Madrid:20260509T093000
DTEND;TZID=Europe/Madrid:20260509T103000
LOCATION:Caminata por Barcelona
END:VEVENT
BEGIN:VTIMEZONE
TZID:Europe/Madrid
BEGIN:STANDARD
DTSTART:20260101T235826
TZNAME:CET
TZOFFSETTO:+0100
TZOFFSETFROM:+0100
END:STANDARD
BEGIN:DAYLIGHT
DTSTART:20260329T030000
TZNAME:CEST
TZOFFSETTO:+0200
TZOFFSETFROM:+0100
END:DAYLIGHT
BEGIN:STANDARD
DTSTART:20261025T020000
TZNAME:CET
TZOFFSETTO:+0100
TZOFFSETFROM:+0200
END:STANDARD
END:VTIMEZONE
END:VCALENDAR
