BEGIN:VCALENDAR
PRODID:-//eluceo/ical//2.0/EN
VERSION:2.0
CALSCALE:GREGORIAN
BEGIN:VEVENT
UID:a1b462cdd0f4021ada14ce19e41f470d
DTSTAMP:20260425T203510Z
SUMMARY:¡Cantamos Juntos\, Hacemos Salud!
DESCRIPTION:Concierto-taller con el Cor Clínic dirigido a todas las edades
 \, que combina música y participación activa. Las cantadas en el Hall in
 vitarán al público a sumarse\, creando un espacio compartido de voz\, em
 oción y convivencia. \n\nPúblico: Para toda la familia \n\nTipo de a
 ctividad: Concierto \n\nHorario: 11h\, 13h 
DTSTART;TZID=Europe/Madrid:20260509T110000
DTEND;TZID=Europe/Madrid:20260509T130000
LOCATION:Vestíbulo del Hospital
END:VEVENT
BEGIN:VTIMEZONE
TZID:Europe/Madrid
BEGIN:STANDARD
DTSTART:20260101T223510
TZNAME:CET
TZOFFSETTO:+0100
TZOFFSETFROM:+0100
END:STANDARD
BEGIN:DAYLIGHT
DTSTART:20260329T030000
TZNAME:CEST
TZOFFSETTO:+0200
TZOFFSETFROM:+0100
END:DAYLIGHT
BEGIN:STANDARD
DTSTART:20261025T020000
TZNAME:CET
TZOFFSETTO:+0100
TZOFFSETFROM:+0200
END:STANDARD
END:VTIMEZONE
END:VCALENDAR
