BEGIN:VCALENDAR
PRODID:-//eluceo/ical//2.0/EN
VERSION:2.0
CALSCALE:GREGORIAN
BEGIN:VEVENT
UID:38703e597c84975c6f7ee527fe36e5b5
DTSTAMP:20260425T203931Z
SUMMARY:Clase abierta de fuerza: activa tus músculos
DESCRIPTION:Inscripción obligatoria\n\n\n\nInscripciones turno 10:15h\n\n\
 n\nVen a probar una sesión abierta de ejercicios de fuerza guiados por pr
 ofesionales. Con movimientos sencillos y adaptados a todos los niveles\, d
 escubrirás cómo trabajar la musculatura de forma segura y divertida. Una
  actividad para ganar fuerza\, energía y salud. \n\nPúblico: Adultos e
 n general \n\nTipo de actividad: Escenario deportivo y cultural \n\nCo
 n la colaboración de:\n\n
DTSTART;TZID=Europe/Madrid:20260509T101500
DTEND;TZID=Europe/Madrid:20260509T110000
LOCATION:Casanova - Còrsega
END:VEVENT
BEGIN:VTIMEZONE
TZID:Europe/Madrid
BEGIN:STANDARD
DTSTART:20260101T223931
TZNAME:CET
TZOFFSETTO:+0100
TZOFFSETFROM:+0100
END:STANDARD
BEGIN:DAYLIGHT
DTSTART:20260329T030000
TZNAME:CEST
TZOFFSETTO:+0200
TZOFFSETFROM:+0100
END:DAYLIGHT
BEGIN:STANDARD
DTSTART:20261025T020000
TZNAME:CET
TZOFFSETTO:+0100
TZOFFSETFROM:+0200
END:STANDARD
END:VTIMEZONE
END:VCALENDAR
