BEGIN:VCALENDAR
PRODID:-//eluceo/ical//2.0/EN
VERSION:2.0
CALSCALE:GREGORIAN
BEGIN:VEVENT
UID:19da607c003cfb535b00c9054642fc45
DTSTAMP:20260425T203848Z
SUMMARY:Clase abierta de zumba: ¡a mover el esqueleto!
DESCRIPTION:Inscripción obligatoria\n\n\n\nInscripciones turno 9:30h\n\n\n
 \nVen a practicar zumba en el escenario de actividad física. ¡Haz salud 
 bailando coreografías sencillas\, dinámicas y divertidas! \n\nPúblico:
  Adultos en general \n\nTipo de actividad: Escenario deportivo y cultu
 ral\n\nSon el colaboración de:\n\n
DTSTART;TZID=Europe/Madrid:20260509T093000
DTEND;TZID=Europe/Madrid:20260509T101500
LOCATION:Casanova - Còrsega
END:VEVENT
BEGIN:VTIMEZONE
TZID:Europe/Madrid
BEGIN:STANDARD
DTSTART:20260101T223848
TZNAME:CET
TZOFFSETTO:+0100
TZOFFSETFROM:+0100
END:STANDARD
BEGIN:DAYLIGHT
DTSTART:20260329T030000
TZNAME:CEST
TZOFFSETTO:+0200
TZOFFSETFROM:+0100
END:DAYLIGHT
BEGIN:STANDARD
DTSTART:20261025T020000
TZNAME:CET
TZOFFSETTO:+0100
TZOFFSETFROM:+0200
END:STANDARD
END:VTIMEZONE
END:VCALENDAR
