BEGIN:VCALENDAR
PRODID:-//eluceo/ical//2.0/EN
VERSION:2.0
CALSCALE:GREGORIAN
BEGIN:VEVENT
UID:d792db20d51eb2f13c066ce84b6326d1
DTSTAMP:20260425T203635Z
SUMMARY:Clase abierta y swing en directo
DESCRIPTION:Ven a disfrutar del baile de swing con Swing Maniacs\, amenizad
 o por la banda amateur de la escuela Maniacs' Band. Nos harán movernos y 
 disfrutar de la mejor música swing para bailar. Y si nunca has probado es
 te baile\, ven a probar la clase abierta de Swing Solo – Solo Charleston
 \, un baile enérgico y divertido de los años 20 con origen afroamericano
  en Harlem\, Nueva York. \n\nPúblico: Adultos en general \n\nTipo de 
 actividad: Escenario deportivo y cultural \n\nHorario: 13:45h 
DTSTART;TZID=Europe/Madrid:20260509T134500
DTEND;TZID=Europe/Madrid:20260509T143000
LOCATION:Casanova - Còrsega
END:VEVENT
BEGIN:VTIMEZONE
TZID:Europe/Madrid
BEGIN:STANDARD
DTSTART:20260101T223635
TZNAME:CET
TZOFFSETTO:+0100
TZOFFSETFROM:+0100
END:STANDARD
BEGIN:DAYLIGHT
DTSTART:20260329T030000
TZNAME:CEST
TZOFFSETTO:+0200
TZOFFSETFROM:+0100
END:DAYLIGHT
BEGIN:STANDARD
DTSTART:20261025T020000
TZNAME:CET
TZOFFSETTO:+0100
TZOFFSETFROM:+0200
END:STANDARD
END:VTIMEZONE
END:VCALENDAR
