BEGIN:VCALENDAR
PRODID:-//eluceo/ical//2.0/EN
VERSION:2.0
CALSCALE:GREGORIAN
BEGIN:VEVENT
UID:b886e1addae7b0584ae9660539ee7fb0
DTSTAMP:20260425T203604Z
SUMMARY:Cocina en directo con Ada Parellada
DESCRIPTION:Aprendrem a preparar plats saludables\, saborosos i fàcils de 
 fer a casa! Ho farem amb la complicitat de la cuinera Ada Parellada (Grano
 llers\, 1967)\, veïna i gran amiga de l’Hospital Clínic Barcelona i de
 l CAPSBE. Amb la seva energia i creativitat a la cuina\, ens mostrarà com
  menjar bé pot ser alhora nutritiu\, deliciós i divertit. Una oportunita
 t per descobrir receptes\, trucs i idees per cuidar la salut a través de 
 l’alimentació. \n\nPúblico: Para toda la familia \n\nTipo de activ
 idad: Cocina en directo \n\nHorario: 10:00h 
DTSTART;TZID=Europe/Madrid:20260509T100000
DTEND;TZID=Europe/Madrid:20260509T110000
LOCATION:Casanova - Provença
END:VEVENT
BEGIN:VTIMEZONE
TZID:Europe/Madrid
BEGIN:STANDARD
DTSTART:20260101T223604
TZNAME:CET
TZOFFSETTO:+0100
TZOFFSETFROM:+0100
END:STANDARD
BEGIN:DAYLIGHT
DTSTART:20260329T030000
TZNAME:CEST
TZOFFSETTO:+0200
TZOFFSETFROM:+0100
END:DAYLIGHT
BEGIN:STANDARD
DTSTART:20261025T020000
TZNAME:CET
TZOFFSETTO:+0100
TZOFFSETFROM:+0200
END:STANDARD
END:VTIMEZONE
END:VCALENDAR
