BEGIN:VCALENDAR
PRODID:-//eluceo/ical//2.0/EN
VERSION:2.0
CALSCALE:GREGORIAN
BEGIN:VEVENT
UID:13a244bb397f70823991bf42d6cff10e
DTSTAMP:20260425T203614Z
SUMMARY:Cocina en directo con Arnau París
DESCRIPTION:Cocinero y comunicador\, es conocido como el cocinero Pim Pam d
 el programa Cocinas de 3Cat. Compagina el trabajo en televisión y las red
 es sociales con el Molí de la Vansa (Lleida)\, la masía familiar donde d
 esarrolla una cocina arraigada en el producto y en el territorio. \n\nPú
 blico: Para toda la familia \n\nTipo de actividad: Cocina en directo 
 \n\nHorario: 12:30h 
DTSTART;TZID=Europe/Madrid:20260509T123000
DTEND;TZID=Europe/Madrid:20260509T133000
LOCATION:Casanova - Provença
END:VEVENT
BEGIN:VTIMEZONE
TZID:Europe/Madrid
BEGIN:STANDARD
DTSTART:20260101T223614
TZNAME:CET
TZOFFSETTO:+0100
TZOFFSETFROM:+0100
END:STANDARD
BEGIN:DAYLIGHT
DTSTART:20260329T030000
TZNAME:CEST
TZOFFSETTO:+0200
TZOFFSETFROM:+0100
END:DAYLIGHT
BEGIN:STANDARD
DTSTART:20261025T020000
TZNAME:CET
TZOFFSETTO:+0100
TZOFFSETFROM:+0200
END:STANDARD
END:VTIMEZONE
END:VCALENDAR
