BEGIN:VCALENDAR
PRODID:-//eluceo/ical//2.0/EN
VERSION:2.0
CALSCALE:GREGORIAN
BEGIN:VEVENT
UID:f3cf184e3775c3e2d9fa41532db5a753
DTSTAMP:20260425T203742Z
SUMMARY:Cocina en directo con Carlota Claver
DESCRIPTION:¡Aprenderemos a cocinar platos saludables\, sabrosos y llenos 
 de creatividad en una sesión de cocina en directo! Lo haremos con la chef
  Carlota Claver\, del restaurante La Gormanda\, que compartirá recetas\, 
 trucos e ideas para transformar ingredientes cotidianos en deliciosos plat
 os. Una oportunidad para ver cómo se cocina en directo\, descubrir nuevas
  combinaciones e inspirarnos para cuidar la salud también a través de lo
  que comemos. \n\nPúblico: Para toda la familia \n\nTipo de actividad
 : Cocina en directo \n\nHorario: 11:15h 
DTSTART;TZID=Europe/Madrid:20260509T111500
DTEND;TZID=Europe/Madrid:20260509T121500
LOCATION:Casanova - Provença
END:VEVENT
BEGIN:VTIMEZONE
TZID:Europe/Madrid
BEGIN:STANDARD
DTSTART:20260101T223742
TZNAME:CET
TZOFFSETTO:+0100
TZOFFSETFROM:+0100
END:STANDARD
BEGIN:DAYLIGHT
DTSTART:20260329T030000
TZNAME:CEST
TZOFFSETTO:+0200
TZOFFSETFROM:+0100
END:DAYLIGHT
BEGIN:STANDARD
DTSTART:20261025T020000
TZNAME:CET
TZOFFSETTO:+0100
TZOFFSETFROM:+0200
END:STANDARD
END:VTIMEZONE
END:VCALENDAR
