BEGIN:VCALENDAR
PRODID:-//eluceo/ical//2.0/EN
VERSION:2.0
CALSCALE:GREGORIAN
BEGIN:VEVENT
UID:3968604a8245a6deb39805ad59862761
DTSTAMP:20260425T215817Z
SUMMARY:Cocina en directo con Maria Nicolau
DESCRIPTION:Maria Nicolau (La Garriga\, 1982) es cocinera y escritora de of
 icio y por vocación. Ha trabajado más de veinticinco años en un montón
  de restaurantes de todo tipo y condición. \n\nHoy vive\, cocina y escri
 be en un pueblo de trescientos habitantes en plena naturaleza en Osona. Ti
 ene siempre el teclado lleno de migajas. ¡Ha escrito Cocina! O barbarie (
 Ara Llibres\, 2022) y Cremo! (Columna\, 2024)\, dos fenómenos tanto culin
 arios como literarios. Es colaboradora habitual de La mañana de Catalunya
  Ràdio\, del Tot se mueve en TV3 y columnista del diario El País. Tiene 
 un dietario en Substack donde la puede leer un poco cada noche y siempre l
 a encontrará haciendo ruido en las redes sociales. \n\nPúblico: Para t
 oda la familia \n\nTipo de actividad: Cocina en directo \n\nHorario: 
 13:45h 
DTSTART;TZID=Europe/Madrid:20260509T134500
DTEND;TZID=Europe/Madrid:20260509T144500
LOCATION:Casanova - Provença
END:VEVENT
BEGIN:VTIMEZONE
TZID:Europe/Madrid
BEGIN:STANDARD
DTSTART:20260101T235817
TZNAME:CET
TZOFFSETTO:+0100
TZOFFSETFROM:+0100
END:STANDARD
BEGIN:DAYLIGHT
DTSTART:20260329T030000
TZNAME:CEST
TZOFFSETTO:+0200
TZOFFSETFROM:+0100
END:DAYLIGHT
BEGIN:STANDARD
DTSTART:20261025T020000
TZNAME:CET
TZOFFSETTO:+0100
TZOFFSETFROM:+0200
END:STANDARD
END:VTIMEZONE
END:VCALENDAR
