BEGIN:VCALENDAR
PRODID:-//eluceo/ical//2.0/EN
VERSION:2.0
CALSCALE:GREGORIAN
BEGIN:VEVENT
UID:49cec35dcbf8319e97849aaee1505da1
DTSTAMP:20260425T203826Z
SUMMARY:Cómo funcionan los tratamientos contra el cáncer
DESCRIPTION:Actividad divulgativa que explica qué es el cáncer y cómo fu
 ncionan algunos de sus principales tratamientos. Mediante experimentos vis
 uales y dinámicas participativas\, los asistentes comprenderán conceptos
  como la quimioterapia\, la radioterapia y el papel de la investigación c
 ientífica en el desarrollo de nuevas terapias. \n\nPúblico: Para toda 
 la familia \n\nTipo de actividad: Tallers de salut i ciència \n\nHora
 rio: 9:30h-14:30h 
DTSTART;TZID=Europe/Madrid:20260509T093000
DTEND;TZID=Europe/Madrid:20260509T143000
LOCATION:Casanova - Rosselló
END:VEVENT
BEGIN:VTIMEZONE
TZID:Europe/Madrid
BEGIN:STANDARD
DTSTART:20260101T223826
TZNAME:CET
TZOFFSETTO:+0100
TZOFFSETFROM:+0100
END:STANDARD
BEGIN:DAYLIGHT
DTSTART:20260329T030000
TZNAME:CEST
TZOFFSETTO:+0200
TZOFFSETFROM:+0100
END:DAYLIGHT
BEGIN:STANDARD
DTSTART:20261025T020000
TZNAME:CET
TZOFFSETTO:+0100
TZOFFSETFROM:+0200
END:STANDARD
END:VTIMEZONE
END:VCALENDAR
