BEGIN:VCALENDAR
PRODID:-//eluceo/ical//2.0/EN
VERSION:2.0
CALSCALE:GREGORIAN
BEGIN:VEVENT
UID:5f9ee56d852a8a2a056ce75fd1b9f4ef
DTSTAMP:20260425T202755Z
SUMMARY:Con nuestro dinero
DESCRIPTION:¿Qué harías si te ofrecieran dinero para priorizar prestacio
 nes del sistema de salud? ¿Qué criterios seguirías? Te damos “dinero 
 simbólico” para que lo distribuyas según tu propia escala de prioridad
 es. \n\nPúblico: Adultos en general \n\nTipo de actividad: Carpas (e
 n la Plaza) \n\nHorario: 9:30-14:30 
DTSTART;TZID=Europe/Madrid:20260509T093000
DTEND;TZID=Europe/Madrid:20260509T143000
LOCATION:Casanova - Rosselló
END:VEVENT
BEGIN:VTIMEZONE
TZID:Europe/Madrid
BEGIN:STANDARD
DTSTART:20260101T222755
TZNAME:CET
TZOFFSETTO:+0100
TZOFFSETFROM:+0100
END:STANDARD
BEGIN:DAYLIGHT
DTSTART:20260329T030000
TZNAME:CEST
TZOFFSETTO:+0200
TZOFFSETFROM:+0100
END:DAYLIGHT
BEGIN:STANDARD
DTSTART:20261025T020000
TZNAME:CET
TZOFFSETTO:+0100
TZOFFSETFROM:+0200
END:STANDARD
END:VTIMEZONE
END:VCALENDAR
