BEGIN:VCALENDAR
PRODID:-//eluceo/ical//2.0/EN
VERSION:2.0
CALSCALE:GREGORIAN
BEGIN:VEVENT
UID:c0da0fdefa0958b4bbf534233fcb3c86
DTSTAMP:20260424T220644Z
SUMMARY:Concierto de agradecimiento para todos los profesionales sanitarios
DESCRIPTION:Un cuarteto de cuerda de la Orquesta del Gran Teatro del Liceu 
 ofrecerá este viernes un concierto desde una de las UCI del Hospital Clí
 nic de Barcelona que ha acogido pacientes con la Covidien-19 durante los 
 meses más intensos. Este concierto\, que será retransmitido a través de
 l Canal de youtube del Hospital Clínico\, pretende ser un homenaje a todo
 s los profesionales del Hospital durante la etapa de la COVID-19.\n\nDuran
 te el concierto\, se ofreceran piezas del cuarteto de cuerda en La menor d
 e Fritz Kreisler y se interpretarán los movimientos: Fantasía\, Scherzo 
 y Finale. El cuarteto de cuerda de la Orquesta del Gran Teatro del Liceo e
 stá formado por: Eva Pyrek (violín I)\, Kalina Macuta (violín II)\, F
 rank Tollini (viola) y Cristoforo Pestalozzi (violonchelo).\n\nAntes de la
  interpretación\, el director general del Hospital Clínic de Barcelona\
 , el Dr. Josep Maria Campistol y el director general del Gran Teatro del L
 iceo\, Valentín Oviedo\, dirigirán unas palabras de agradecimiento.\n\n\
 n\n\n\n
DTSTART;VALUE=DATE:20200710
LOCATION:Hospital Clínic de Barcelona. C/Villarroel\, 170
END:VEVENT
BEGIN:VTIMEZONE
TZID:Europe/Madrid
BEGIN:STANDARD
DTSTART:20260101T000644
TZNAME:CET
TZOFFSETTO:+0100
TZOFFSETFROM:+0100
END:STANDARD
BEGIN:DAYLIGHT
DTSTART:20260329T030000
TZNAME:CEST
TZOFFSETTO:+0200
TZOFFSETFROM:+0100
END:DAYLIGHT
BEGIN:STANDARD
DTSTART:20261025T020000
TZNAME:CET
TZOFFSETTO:+0100
TZOFFSETFROM:+0200
END:STANDARD
END:VTIMEZONE
END:VCALENDAR
