BEGIN:VCALENDAR
PRODID:-//eluceo/ical//2.0/EN
VERSION:2.0
CALSCALE:GREGORIAN
BEGIN:VEVENT
UID:b651d8c8acd21e478d1b2af44d89417f
DTSTAMP:20260425T220004Z
SUMMARY:Consejos para mejorar la salud bucodental
DESCRIPTION:Charla que ofrece herramientas prácticas para mejorar la higie
 ne oral\, prevenir caries y enfermedades de las encías\, con demostracion
 es\, consejos personalizados y hábitos saludables\, impartida por odontó
 logos e higienistas de CAPSBE. \n\nPúblico: Adultos en general\, jóvene
 s y adolescentes \n\nTipo de actividad: Las voces de la salud \n\nHorari
 o: 13:00 
DTSTART;TZID=Europe/Madrid:20260509T130000
DTEND;TZID=Europe/Madrid:20260509T133000
LOCATION:Casanova - Provença
END:VEVENT
BEGIN:VTIMEZONE
TZID:Europe/Madrid
BEGIN:STANDARD
DTSTART:20260101T000004
TZNAME:CET
TZOFFSETTO:+0100
TZOFFSETFROM:+0100
END:STANDARD
BEGIN:DAYLIGHT
DTSTART:20260329T030000
TZNAME:CEST
TZOFFSETTO:+0200
TZOFFSETFROM:+0100
END:DAYLIGHT
BEGIN:STANDARD
DTSTART:20261025T020000
TZNAME:CET
TZOFFSETTO:+0100
TZOFFSETFROM:+0200
END:STANDARD
END:VTIMEZONE
END:VCALENDAR
