BEGIN:VCALENDAR
PRODID:-//eluceo/ical//2.0/EN
VERSION:2.0
CALSCALE:GREGORIAN
BEGIN:VEVENT
UID:6cb0232d4f1708c291f6d938ce9e4b12
DTSTAMP:20260423T161203Z
SUMMARY:Consejos para mejorar la salud bucodental
DESCRIPTION:Aprende técnicas de higiene oral\, prevención de caries y enf
 ermedades de las encías\, uso correcto del cepillo y del hilo dental\, co
 n demostraciones prácticas y recomendaciones personalizadas para todas la
 s edades. \n\nPúblico: Para toda la familia \n\nTipo de actividad: C
 arpas (en la calzada) \n\nHorario: 9:30-14:30 
DTSTART;TZID=Europe/Madrid:20260509T093000
DTEND;TZID=Europe/Madrid:20260509T143000
LOCATION:Casanova - Còrsega
END:VEVENT
BEGIN:VTIMEZONE
TZID:Europe/Madrid
BEGIN:STANDARD
DTSTART:20260101T181203
TZNAME:CET
TZOFFSETTO:+0100
TZOFFSETFROM:+0100
END:STANDARD
BEGIN:DAYLIGHT
DTSTART:20260329T030000
TZNAME:CEST
TZOFFSETTO:+0200
TZOFFSETFROM:+0100
END:DAYLIGHT
BEGIN:STANDARD
DTSTART:20261025T020000
TZNAME:CET
TZOFFSETTO:+0100
TZOFFSETFROM:+0200
END:STANDARD
END:VTIMEZONE
END:VCALENDAR
