BEGIN:VCALENDAR
PRODID:-//eluceo/ical//2.0/EN
VERSION:2.0
CALSCALE:GREGORIAN
BEGIN:VEVENT
UID:3530a078b311ebf9557df2e133da9917
DTSTAMP:20260425T203930Z
SUMMARY:Construyamos juntos un futuro más saludable y sostenible
DESCRIPTION:Inscripción obligatoria\n\n\n\nInscripciones turno 10:00h\n\n\
 nInscripciones turno 11:00h\n\n\nInscripciones turno 12:00h\n\n\nInscripci
 ones turno 13:00h\n\n\n\nActividad artística participativa que culminará
  en la creación de un mural colectivo de gran formato en el Campus Clíni
 c\, como símbolo del compromiso compartido con la sostenibilidad y la sal
 ud.\n\nLa obra\, concebida artísticamente por Patricia Trujillo en su Ate
 lier Sant Gervasi\, se materializará a lo largo de la jornada\, donde los
  niños\, familias y visitantes podrán sumarse al proceso creativo aporta
 ndo colores y formas en el mural. De este modo\, se invita a través del a
 rte a reflexionar sobre la relación entre sostenibilidad y salud y cada i
 ntervención individual se convierte en parte de una obra colectiva\, que 
 pone en valor la importancia de construir juntos un futuro más sostenible
 .\n\nPatricia Trujillo es pintora y artista plástica\, con una trayectori
 a centrada en la pintura figurativa y expresión del color\, y una amplia 
 experiencia expositiva internacional. Ha expuesto en galerías internacion
 ales\, como Galería Azur en Berlín y Nueva York\, y es fundadora y direc
 tora artística del Atelier Sant Gervasi\, un espacio dedicado a la creaci
 ón\, exhibición y formación artística.\n\n¿Cómo puedes participar?\n
 \nActividad dirigida donde podrá participar toda la familia pintando y re
 cortando ilustraciones que después llenarán de color y formas el mural.\
 n\nPúblico: Para toda la familia \n\nTipo de actividad: Carpas (en la 
 Plaza) 
DTSTART;TZID=Europe/Madrid:20260509T100000
DTEND;TZID=Europe/Madrid:20260509T140000
LOCATION:Casanova - Rosselló
END:VEVENT
BEGIN:VTIMEZONE
TZID:Europe/Madrid
BEGIN:STANDARD
DTSTART:20260101T223930
TZNAME:CET
TZOFFSETTO:+0100
TZOFFSETFROM:+0100
END:STANDARD
BEGIN:DAYLIGHT
DTSTART:20260329T030000
TZNAME:CEST
TZOFFSETTO:+0200
TZOFFSETFROM:+0100
END:DAYLIGHT
BEGIN:STANDARD
DTSTART:20261025T020000
TZNAME:CET
TZOFFSETTO:+0100
TZOFFSETFROM:+0200
END:STANDARD
END:VTIMEZONE
END:VCALENDAR
