BEGIN:VCALENDAR
PRODID:-//eluceo/ical//2.0/EN
VERSION:2.0
CALSCALE:GREGORIAN
BEGIN:VEVENT
UID:2a4abed96c7e7e61f6a897d61a2eb5a2
DTSTAMP:20260425T234916Z
SUMMARY:Construyendo el futuro juntos: la participación en el Nou Campus d
 e Salud Clínic-UB
DESCRIPTION:El Nuevo Campus de Salud Clínic-UB representa una transformaci
 ón histórica y una oportunidad única para consolidar un ecosistema de s
 alud de referencia en Europa. Este proyecto estratégico no sólo redefini
 rá el espacio físico de la asistencia\, la docencia y la investigación\
 , sino también aspira a establecer un nuevo paradigma de colaboración y 
 sinergia entre todos los actores implicados.\n\nCoordinadores: Anne-Sophie
  Gresle – Ramon Canal\n\nEl programa se publicará próximamente.
DTSTART;TZID=Europe/Madrid:20260629T090000
DTEND;TZID=Europe/Madrid:20260629T140000
LOCATION:Sede Villarroel. C/ Villarroel\, 170. 08036. Barcelona
END:VEVENT
BEGIN:VTIMEZONE
TZID:Europe/Madrid
BEGIN:STANDARD
DTSTART:20260101T014916
TZNAME:CET
TZOFFSETTO:+0100
TZOFFSETFROM:+0100
END:STANDARD
BEGIN:DAYLIGHT
DTSTART:20260329T030000
TZNAME:CEST
TZOFFSETTO:+0200
TZOFFSETFROM:+0100
END:DAYLIGHT
BEGIN:STANDARD
DTSTART:20261025T020000
TZNAME:CET
TZOFFSETTO:+0100
TZOFFSETFROM:+0200
END:STANDARD
END:VTIMEZONE
END:VCALENDAR
