BEGIN:VCALENDAR
PRODID:-//eluceo/ical//2.0/EN
VERSION:2.0
CALSCALE:GREGORIAN
BEGIN:VEVENT
UID:8f9efe0df5f58a3b653cbd5e3469ca64
DTSTAMP:20260425T203846Z
SUMMARY:Conviértete en científico: experimentos de laboratorio biomédico
DESCRIPTION:Taller práctico en el que los participantes se transforman en 
 científicos de un laboratorio biomédico. A través de experimentos con a
 nticuerpos\, observación al microscopio y la simulación de una centrifug
 ación de la sangre\, descubrirán cómo los investigadores diagnostican e
 nfermedades y estudian los componentes sanguíneos. Una experiencia partic
 ipativa que acerca el funcionamiento real de los laboratorios científicos
 . \n\nPúblico: Para toda la familia \n\nTipo de actividad: Tallers d
 e salut i ciència \n\nHorario: 9:30h-14:30h 
DTSTART;TZID=Europe/Madrid:20260509T093000
DTEND;TZID=Europe/Madrid:20260509T143000
LOCATION:Casanova - Rosselló
END:VEVENT
BEGIN:VTIMEZONE
TZID:Europe/Madrid
BEGIN:STANDARD
DTSTART:20260101T223846
TZNAME:CET
TZOFFSETTO:+0100
TZOFFSETFROM:+0100
END:STANDARD
BEGIN:DAYLIGHT
DTSTART:20260329T030000
TZNAME:CEST
TZOFFSETTO:+0200
TZOFFSETFROM:+0100
END:DAYLIGHT
BEGIN:STANDARD
DTSTART:20261025T020000
TZNAME:CET
TZOFFSETTO:+0100
TZOFFSETFROM:+0200
END:STANDARD
END:VTIMEZONE
END:VCALENDAR
