BEGIN:VCALENDAR
PRODID:-//eluceo/ical//2.0/EN
VERSION:2.0
CALSCALE:GREGORIAN
BEGIN:VEVENT
UID:1c1952ada8e2f1af333ff01cb4b968ae
DTSTAMP:20260425T220004Z
SUMMARY:Cuando la fiesta acaba en urgencias: mitos y realidades
DESCRIPTION:Charla sobre intoxicaciones graves: reconocer señales de alarm
 a\, actuar a tiempo y evitar riesgos como mezclar sustancias o deshidratac
 ión. \n\nPúblico: Adultos en general\, jóvenes y adolescentes \n\nTip
 o de actividad: Ágora de la salud\n\nHorario:\n\n10:40h (10min) - Cuand
 o la fiesta termina en urgencias: cannabis\, nuevas formas\, nuevos riesgo
 s\n\n11:20h (10min) - Cuando la fiesta termina en urgencias: óxido nitro
 so\, lo que no se explica de los "globos"\n\n13:10h (30min) - Cuando la f
 iesta termina en urgencias: Chemsex\, sexo y drogas
DTSTART;TZID=Europe/Madrid:20260509T104000
DTEND;TZID=Europe/Madrid:20260509T131000
LOCATION:Casanova - Rosselló
END:VEVENT
BEGIN:VTIMEZONE
TZID:Europe/Madrid
BEGIN:STANDARD
DTSTART:20260101T000004
TZNAME:CET
TZOFFSETTO:+0100
TZOFFSETFROM:+0100
END:STANDARD
BEGIN:DAYLIGHT
DTSTART:20260329T030000
TZNAME:CEST
TZOFFSETTO:+0200
TZOFFSETFROM:+0100
END:DAYLIGHT
BEGIN:STANDARD
DTSTART:20261025T020000
TZNAME:CET
TZOFFSETTO:+0100
TZOFFSETFROM:+0200
END:STANDARD
END:VTIMEZONE
END:VCALENDAR
