BEGIN:VCALENDAR
PRODID:-//eluceo/ical//2.0/EN
VERSION:2.0
CALSCALE:GREGORIAN
BEGIN:VEVENT
UID:3890b26d4c06fff28f64c5e7b6431ff3
DTSTAMP:20260425T203425Z
SUMMARY:Cuentos y actividades saludables
DESCRIPTION:Espacio taller para niños y niñas de hasta 12 años con cuent
 os y actividades plásticas para aprender normas básicas de fotoprotecci
 ón y fomentar una relación saludable con el sol. Se organiza en turnos d
 e una hora con una actividad narrativa y otra creativa. \n\nPúblico: In
 fancia\, para toda la familia \n\nTipo de actividad: Carpas (en la calz
 ada) \n\nHorario: 9:30-14:30 
DTSTART;TZID=Europe/Madrid:20260509T093000
DTEND;TZID=Europe/Madrid:20260509T143000
LOCATION:Casanova - Còrsega
END:VEVENT
BEGIN:VTIMEZONE
TZID:Europe/Madrid
BEGIN:STANDARD
DTSTART:20260101T223425
TZNAME:CET
TZOFFSETTO:+0100
TZOFFSETFROM:+0100
END:STANDARD
BEGIN:DAYLIGHT
DTSTART:20260329T030000
TZNAME:CEST
TZOFFSETTO:+0200
TZOFFSETFROM:+0100
END:DAYLIGHT
BEGIN:STANDARD
DTSTART:20261025T020000
TZNAME:CET
TZOFFSETTO:+0100
TZOFFSETFROM:+0200
END:STANDARD
END:VTIMEZONE
END:VCALENDAR
