BEGIN:VCALENDAR
PRODID:-//eluceo/ical//2.0/EN
VERSION:2.0
CALSCALE:GREGORIAN
BEGIN:VEVENT
UID:9a915ed0755c87fccf44c2804e4ad2f9
DTSTAMP:20260425T204015Z
SUMMARY:¡Cuida tu hígado! Información y cribado gratuito de hepatitis vi
 rales
DESCRIPTION:Carpa informativa sobre hepatitis B y C: aprende sobre prevenci
 ón\, transmisión y tratamiento\, resuelve dudas y\, si cumples los requi
 sitos\, hazte un test rápido gratuito y confidencial con asesoramiento pe
 rsonalizado de nuestro equipo. \n\nPúblico: Adultos en general \n\nTip
 o de actividad: Carpas (en la calzada) \n\nHorario: 9:30-14:30 
DTSTART;TZID=Europe/Madrid:20260509T093000
DTEND;TZID=Europe/Madrid:20260509T143000
LOCATION:Casanova - Còrsega
END:VEVENT
BEGIN:VTIMEZONE
TZID:Europe/Madrid
BEGIN:STANDARD
DTSTART:20260101T224015
TZNAME:CET
TZOFFSETTO:+0100
TZOFFSETFROM:+0100
END:STANDARD
BEGIN:DAYLIGHT
DTSTART:20260329T030000
TZNAME:CEST
TZOFFSETTO:+0200
TZOFFSETFROM:+0100
END:DAYLIGHT
BEGIN:STANDARD
DTSTART:20261025T020000
TZNAME:CET
TZOFFSETTO:+0100
TZOFFSETFROM:+0200
END:STANDARD
END:VTIMEZONE
END:VCALENDAR
