BEGIN:VCALENDAR
PRODID:-//eluceo/ical//2.0/EN
VERSION:2.0
CALSCALE:GREGORIAN
BEGIN:VEVENT
UID:1d3a23a099cb18ce8122c1498e1b59af
DTSTAMP:20260423T105122Z
SUMMARY:Curso en línea: Como debemos actuar ante una parada cardiorespirat
 oria? Tu también puedes salvar vidas - Ed.9
DESCRIPTION:Este curso está diseñado para ofrecer conocimientos y habilid
 ades para reconocer una emergencia\, activar la cadena de supervivencia y 
 aplicar maniobras básicas como: la reanimación cardiopulmonar (RPC)\, el
  uso del Desfibrilador Externo Automático (DEA) y la desobstrucción de l
 a vía aérea en caso de ahogamiento. \n\nLos conocimientos están orient
 ados a un público general y en ningún caso sustituye el consejo de un pr
 ofesional de la salud.\n\nOrganiza: Escola de Salut Catalana en colaborac
 ión con el Pla director de Malalties Cardiovasculars de la Direcció Gene
 ral de Planificació en Salut del Departament de Salut.\n\nSe requiere ins
 cripción previa gratuita. Fecha límite 6 de abril\n\nHorario libre\n\n\n
 \n\n\n\n\n\n\n\n\n\n\n\n\n\n\n\n\n
DTSTART;TZID=Europe/Madrid:20260408T000000
DTEND;TZID=Europe/Madrid:20260430T000000
LOCATION:
END:VEVENT
BEGIN:VTIMEZONE
TZID:Europe/Madrid
BEGIN:STANDARD
DTSTART:20260101T125122
TZNAME:CET
TZOFFSETTO:+0100
TZOFFSETFROM:+0100
END:STANDARD
BEGIN:DAYLIGHT
DTSTART:20260329T030000
TZNAME:CEST
TZOFFSETTO:+0200
TZOFFSETFROM:+0100
END:DAYLIGHT
BEGIN:STANDARD
DTSTART:20261025T020000
TZNAME:CET
TZOFFSETTO:+0100
TZOFFSETFROM:+0200
END:STANDARD
END:VTIMEZONE
END:VCALENDAR
