BEGIN:VCALENDAR
PRODID:-//eluceo/ical//2.0/EN
VERSION:2.0
CALSCALE:GREGORIAN
BEGIN:VEVENT
UID:161fabbe423763e10f6f712e2c80b546
DTSTAMP:20260425T203825Z
SUMMARY:Dentro del corazón la tecnología que salva vidas
DESCRIPTION:Descubre la cardiología de alta tecnología: toca y explora st
 ents\, válvulas y catéteres\, aprende cómo funcionan y cómo ayudan a t
 ratar enfermedades del corazón y de los vasos\, y conoce los avances que 
 mejoran la salud cardiovascular. \n\nPúblico: Para toda la familia \n\
 nTipo de actividad: Carpas (en la calzada) \n\nHorario: 9:30-14:30 
DTSTART;TZID=Europe/Madrid:20260509T093000
DTEND;TZID=Europe/Madrid:20260509T143000
LOCATION:Casanova - Còrsega
END:VEVENT
BEGIN:VTIMEZONE
TZID:Europe/Madrid
BEGIN:STANDARD
DTSTART:20260101T223825
TZNAME:CET
TZOFFSETTO:+0100
TZOFFSETFROM:+0100
END:STANDARD
BEGIN:DAYLIGHT
DTSTART:20260329T030000
TZNAME:CEST
TZOFFSETTO:+0200
TZOFFSETFROM:+0100
END:DAYLIGHT
BEGIN:STANDARD
DTSTART:20261025T020000
TZNAME:CET
TZOFFSETTO:+0100
TZOFFSETFROM:+0200
END:STANDARD
END:VTIMEZONE
END:VCALENDAR
