BEGIN:VCALENDAR
PRODID:-//eluceo/ical//2.0/EN
VERSION:2.0
CALSCALE:GREGORIAN
BEGIN:VEVENT
UID:97261a5d1ab64ef9d739b8589cff22e4
DTSTAMP:20260425T220101Z
SUMMARY:Descubre la terapia CAR T: cuando tus células se convierten en her
 oínas
DESCRIPTION:Descubre la terapia CAR-T: participa en un taller práctico don
 de verás células al microscopio\, simularás la modificación genética 
 y descubrirás cómo la sangre del paciente se transforma en un tratamient
 o personalizado contra el cáncer. \n\nPúblico: Para toda la familia \
 n\nTipo de actividad: Carpas (en la calzada) \n\nHorario: 9:30-14:30 
DTSTART;TZID=Europe/Madrid:20260509T093000
DTEND;TZID=Europe/Madrid:20260509T143000
LOCATION:Casanova - Còrsega
END:VEVENT
BEGIN:VTIMEZONE
TZID:Europe/Madrid
BEGIN:STANDARD
DTSTART:20260101T000101
TZNAME:CET
TZOFFSETTO:+0100
TZOFFSETFROM:+0100
END:STANDARD
BEGIN:DAYLIGHT
DTSTART:20260329T030000
TZNAME:CEST
TZOFFSETTO:+0200
TZOFFSETFROM:+0100
END:DAYLIGHT
BEGIN:STANDARD
DTSTART:20261025T020000
TZNAME:CET
TZOFFSETTO:+0100
TZOFFSETFROM:+0200
END:STANDARD
END:VTIMEZONE
END:VCALENDAR
