BEGIN:VCALENDAR
PRODID:-//eluceo/ical//2.0/EN
VERSION:2.0
CALSCALE:GREGORIAN
BEGIN:VEVENT
UID:ff74402bccfdce1480a9707b01d395a5
DTSTAMP:20260425T215721Z
SUMMARY:Dibujamos lo que nos hace bien
DESCRIPTION:“Dibujamos lo que nos hace bien” es una propuesta educativa
  vinculada al Clínic Obert 2026\, impulsada por el CAPSBE y el Campus Cl
 ínic\, para acercarse a las escuelas del barrio de forma participativa y 
 significativa. La actividad contempla tres acciones: una breve pieza teatr
 al\, un taller de dibujo y una exposición colectiva.\n\nPúblico: Para t
 oda la familia \n\nTipo de actividad: Actividad comunitaria \n\nHorari
 o: 9:30h-14:30h 
DTSTART;TZID=Europe/Madrid:20260509T093000
DTEND;TZID=Europe/Madrid:20260509T143000
LOCATION:Casanova - Rosselló
END:VEVENT
BEGIN:VTIMEZONE
TZID:Europe/Madrid
BEGIN:STANDARD
DTSTART:20260101T235721
TZNAME:CET
TZOFFSETTO:+0100
TZOFFSETFROM:+0100
END:STANDARD
BEGIN:DAYLIGHT
DTSTART:20260329T030000
TZNAME:CEST
TZOFFSETTO:+0200
TZOFFSETFROM:+0100
END:DAYLIGHT
BEGIN:STANDARD
DTSTART:20261025T020000
TZNAME:CET
TZOFFSETTO:+0100
TZOFFSETFROM:+0200
END:STANDARD
END:VTIMEZONE
END:VCALENDAR
