BEGIN:VCALENDAR
PRODID:-//eluceo/ical//2.0/EN
VERSION:2.0
CALSCALE:GREGORIAN
BEGIN:VEVENT
UID:aa365f19affcd42cf70a8934eb91c568
DTSTAMP:20260425T203425Z
SUMMARY:Educación sexual y sin tabúes
DESCRIPTION:Salud sexual y reproductiva: ¡infórmate y protégete! Preveni
 mos embarazos e ITS\, fomentamos el respeto y el consentimiento\, ofrecemo
 s educación emocional\, recursos para jóvenes y familias\, y un espacio 
 de confianza para resolver dudas. \n\nPúblico: Adultos en general\, jó
 venes y adolescentes \n\nTipo de actividad: Carpas (en la calzada) \n\
 nHorario: 9:30-14:30 
DTSTART;TZID=Europe/Madrid:20260509T093000
DTEND;TZID=Europe/Madrid:20260509T143000
LOCATION:Casanova - Provença
END:VEVENT
BEGIN:VTIMEZONE
TZID:Europe/Madrid
BEGIN:STANDARD
DTSTART:20260101T223425
TZNAME:CET
TZOFFSETTO:+0100
TZOFFSETFROM:+0100
END:STANDARD
BEGIN:DAYLIGHT
DTSTART:20260329T030000
TZNAME:CEST
TZOFFSETTO:+0200
TZOFFSETFROM:+0100
END:DAYLIGHT
BEGIN:STANDARD
DTSTART:20261025T020000
TZNAME:CET
TZOFFSETTO:+0100
TZOFFSETFROM:+0200
END:STANDARD
END:VTIMEZONE
END:VCALENDAR
