BEGIN:VCALENDAR
PRODID:-//eluceo/ical//2.0/EN
VERSION:2.0
CALSCALE:GREGORIAN
BEGIN:VEVENT
UID:f0adc4ed46038a2a92e95e210bcb6735
DTSTAMP:20260425T215817Z
SUMMARY:Eixample Clínic: formando a los profesionales de la salud
DESCRIPTION:Descubre qué hacen y cómo se forman los futuros profesionales
  de la salud en la carpa de Eixample Clínic. Profesorado y estudiantes ex
 plicarán su actividad y mostrarán algunas de las técnicas y conocimient
 os que aprenden en los ciclos formativos sanitarios. Una oportunidad para 
 conocer de cerca cómo se preparan los técnicos que van a trabajar en hos
 pitales\, laboratorios o centros de salud. \n\nPúblico: Adultos en gene
 ral \n\nTipo de actividad: Carpas (en la calzada) \n\nHorario: 9:30-1
 4:30 
DTSTART;TZID=Europe/Madrid:20260509T093000
DTEND;TZID=Europe/Madrid:20260509T143000
LOCATION:Casanova - Provença
END:VEVENT
BEGIN:VTIMEZONE
TZID:Europe/Madrid
BEGIN:STANDARD
DTSTART:20260101T235817
TZNAME:CET
TZOFFSETTO:+0100
TZOFFSETFROM:+0100
END:STANDARD
BEGIN:DAYLIGHT
DTSTART:20260329T030000
TZNAME:CEST
TZOFFSETTO:+0200
TZOFFSETFROM:+0100
END:DAYLIGHT
BEGIN:STANDARD
DTSTART:20261025T020000
TZNAME:CET
TZOFFSETTO:+0100
TZOFFSETFROM:+0200
END:STANDARD
END:VTIMEZONE
END:VCALENDAR
