BEGIN:VCALENDAR
PRODID:-//eluceo/ical//2.0/EN
VERSION:2.0
CALSCALE:GREGORIAN
BEGIN:VEVENT
UID:e4ea66a6384e3eecb36403163dce88fd
DTSTAMP:20260425T203804Z
SUMMARY:El Alzheimer\, más que un problema de memoria
DESCRIPTION:Charla sobre deterioro cognitivo leve y demencia: explicación 
 clara de qué son\, las enfermedades que los causan (Alzheimer\, Demencia 
 por Cuerpos de Lewy\, Frontotemporal…)\, cómo se diagnostican\, factore
 s de riesgo\, voluntades anticipadas y oportunidades de \n\nPúblico: Adu
 ltos en general \n\nTipo de actividad: Les veus de la salut\n\nHorario: 1
 2:00 
DTSTART;TZID=Europe/Madrid:20260509T120000
DTEND;TZID=Europe/Madrid:20260509T123000
LOCATION:Casanova - Provença
END:VEVENT
BEGIN:VTIMEZONE
TZID:Europe/Madrid
BEGIN:STANDARD
DTSTART:20260101T223804
TZNAME:CET
TZOFFSETTO:+0100
TZOFFSETFROM:+0100
END:STANDARD
BEGIN:DAYLIGHT
DTSTART:20260329T030000
TZNAME:CEST
TZOFFSETTO:+0200
TZOFFSETFROM:+0100
END:DAYLIGHT
BEGIN:STANDARD
DTSTART:20261025T020000
TZNAME:CET
TZOFFSETTO:+0100
TZOFFSETFROM:+0200
END:STANDARD
END:VTIMEZONE
END:VCALENDAR
