BEGIN:VCALENDAR
PRODID:-//eluceo/ical//2.0/EN
VERSION:2.0
CALSCALE:GREGORIAN
BEGIN:VEVENT
UID:89cb330c4d6886a3f77f385d2cfd4fce
DTSTAMP:20260425T220131Z
SUMMARY:El corazón en directo: visita a los quirófanos de arritmias
DESCRIPTION:Inscripción obligatoria\n\n\n\nInscripciones turno 10:00h\n\n\
 nInscripciones turno 11:30h\n\n\nInscripciones turno 13:00h\n\n\n\nVisita 
 guiada para conocer los quirófanos de arritmias\, los procedimientos diag
 nósticos y terapéuticos\, la tecnología avanzada y el trabajo de los eq
 uipos multidisciplinares. Podrás conocer cómo se monitorizan los pacien
 tes de forma remota. \n\nPúblico: Para toda la familia \n\nTipo de ac
 tividad: Visitas guiadas \n\nPlazas disponibles: 10 (por turno)\n\nDur
 ación: 45' 
DTSTART;TZID=Europe/Madrid:20260509T100000
DTEND;TZID=Europe/Madrid:20260509T130000
LOCATION:Hospital
END:VEVENT
BEGIN:VTIMEZONE
TZID:Europe/Madrid
BEGIN:STANDARD
DTSTART:20260101T000131
TZNAME:CET
TZOFFSETTO:+0100
TZOFFSETFROM:+0100
END:STANDARD
BEGIN:DAYLIGHT
DTSTART:20260329T030000
TZNAME:CEST
TZOFFSETTO:+0200
TZOFFSETFROM:+0100
END:DAYLIGHT
BEGIN:STANDARD
DTSTART:20261025T020000
TZNAME:CET
TZOFFSETTO:+0100
TZOFFSETFROM:+0200
END:STANDARD
END:VTIMEZONE
END:VCALENDAR
