BEGIN:VCALENDAR
PRODID:-//eluceo/ical//2.0/EN
VERSION:2.0
CALSCALE:GREGORIAN
BEGIN:VEVENT
UID:82ed9ed5cbc6fff8c12f74930a775fa5
DTSTAMP:20260425T215858Z
SUMMARY:‘El Suplement’ en directo desde el Clínic Obert
DESCRIPTION:“El Suplement” con Roger Escapa desde el Clínic obert. La
  emisión del programa especial de 'El Suplemento' empezará a las 10 hora
 s y finalizará a las 13h. Por los micrófonos de Catalunya Ràdio pasará
 n los protagonistas del día y se podrán conocer historias humanas vincul
 adas con el Campus Clínic. También se prevé realizar varias conexiones 
 en directo para conocer lugares menos concurridos habitualmente dentro del
  Campus. \n\nPúblico: Para toda la familia \n\nTipo de actividad: R
 àdio en directe \n\nHorario: De 10 a 13h 
DTSTART;TZID=Europe/Madrid:20260509T100000
DTEND;TZID=Europe/Madrid:20260509T130000
LOCATION:Casanova - Rosselló
END:VEVENT
BEGIN:VTIMEZONE
TZID:Europe/Madrid
BEGIN:STANDARD
DTSTART:20260101T235858
TZNAME:CET
TZOFFSETTO:+0100
TZOFFSETFROM:+0100
END:STANDARD
BEGIN:DAYLIGHT
DTSTART:20260329T030000
TZNAME:CEST
TZOFFSETTO:+0200
TZOFFSETFROM:+0100
END:DAYLIGHT
BEGIN:STANDARD
DTSTART:20261025T020000
TZNAME:CET
TZOFFSETTO:+0100
TZOFFSETFROM:+0200
END:STANDARD
END:VTIMEZONE
END:VCALENDAR
