BEGIN:VCALENDAR
PRODID:-//eluceo/ical//2.0/EN
VERSION:2.0
CALSCALE:GREGORIAN
BEGIN:VEVENT
UID:e2903e39d23be029e954dd3b30bb2e9a
DTSTAMP:20260425T204022Z
SUMMARY:Encesta con el Capitán Verde y conviértete en un superhéroe de l
 a sostenibilidad
DESCRIPTION:¡Aprende a separar residuos jugando! Participa en nuestro jueg
 o y encesta las pelotas en el contenedor correcto: orgánico\, envases\, p
 apel y cartón\, vidrio\, rechazo y punto verde. Descubre también nocione
 s básicas sobre residuos sanitarios. \n\nPúblico: Para toda la familia
  \n\nTipo de actividad: Carpas (en la calzada) \n\nHorario: 9:30-14:3
 0 
DTSTART;TZID=Europe/Madrid:20260509T093000
DTEND;TZID=Europe/Madrid:20260509T143000
LOCATION:Casanova - Provença
END:VEVENT
BEGIN:VTIMEZONE
TZID:Europe/Madrid
BEGIN:STANDARD
DTSTART:20260101T224022
TZNAME:CET
TZOFFSETTO:+0100
TZOFFSETFROM:+0100
END:STANDARD
BEGIN:DAYLIGHT
DTSTART:20260329T030000
TZNAME:CEST
TZOFFSETTO:+0200
TZOFFSETFROM:+0100
END:DAYLIGHT
BEGIN:STANDARD
DTSTART:20261025T020000
TZNAME:CET
TZOFFSETTO:+0100
TZOFFSETFROM:+0200
END:STANDARD
END:VTIMEZONE
END:VCALENDAR
