BEGIN:VCALENDAR
PRODID:-//eluceo/ical//2.0/EN
VERSION:2.0
CALSCALE:GREGORIAN
BEGIN:VEVENT
UID:33a6556fb5362806dffaf24829d43079
DTSTAMP:20260425T220230Z
SUMMARY:Ensayos clínicos en cáncer: descubre cómo investigamos nuevos tr
 atamientos en el Clínic Barcelona Comprehensive Cancer Centre
DESCRIPTION:Inscripción obligatoria\n\n\n\nInscripciones turno 10:00h\n\n\
 nInscripciones turno 10:20h\n\n\nInscripciones turno 10:45h\n\n\nInscripci
 ones turno 11:15h\n\n\nInscripciones turno 11:35h\n\n\nInscripciones turno
  12:05h\n\n\n\nVisitas guiadas para descubrir cómo funcionan los ensayos 
 clínicos oncológicos\, su diseño y su impacto en el desarrollo de nuevo
 s tratamientos contra el cáncer. \n\nPúblico: Para toda la familia \n
 \nTipo de actividad: Visitas guiadas \n\nPlazas disponibles: 10 (por 
 turno)\n\nDuración: 20' 
DTSTART;TZID=Europe/Madrid:20260509T100000
DTEND;TZID=Europe/Madrid:20260509T144000
LOCATION:Hospital
END:VEVENT
BEGIN:VTIMEZONE
TZID:Europe/Madrid
BEGIN:STANDARD
DTSTART:20260101T000230
TZNAME:CET
TZOFFSETTO:+0100
TZOFFSETFROM:+0100
END:STANDARD
BEGIN:DAYLIGHT
DTSTART:20260329T030000
TZNAME:CEST
TZOFFSETTO:+0200
TZOFFSETFROM:+0100
END:DAYLIGHT
BEGIN:STANDARD
DTSTART:20261025T020000
TZNAME:CET
TZOFFSETTO:+0100
TZOFFSETFROM:+0200
END:STANDARD
END:VTIMEZONE
END:VCALENDAR
