BEGIN:VCALENDAR
PRODID:-//eluceo/ical//2.0/EN
VERSION:2.0
CALSCALE:GREGORIAN
BEGIN:VEVENT
UID:0335dfd0a3e988c3e2048436e63af70d
DTSTAMP:20260425T202612Z
SUMMARY:Experiencia Migraña
DESCRIPTION:La Carpa de la Experiencia Migraña es un espacio particip
 ativo con actividades interactivas sobre la migraña: mural de desen
 cadenantes\, juegos de mitos y experiencias sensoriales. Permite c
 onocer mejor este trastorno\, compartir vivencias y descubrir herram
 ientas prácticas para gestionarlo. \n\nPúblico: Adultos en general
  \n\nTipo de actividad: Carpas (en la calzada) \n\nHorario: 9:30-14:3
 0 
DTSTART;TZID=Europe/Madrid:20260509T093000
DTEND;TZID=Europe/Madrid:20260509T143000
LOCATION:Casanova - Còrsega
END:VEVENT
BEGIN:VTIMEZONE
TZID:Europe/Madrid
BEGIN:STANDARD
DTSTART:20260101T222612
TZNAME:CET
TZOFFSETTO:+0100
TZOFFSETFROM:+0100
END:STANDARD
BEGIN:DAYLIGHT
DTSTART:20260329T030000
TZNAME:CEST
TZOFFSETTO:+0200
TZOFFSETFROM:+0100
END:DAYLIGHT
BEGIN:STANDARD
DTSTART:20261025T020000
TZNAME:CET
TZOFFSETTO:+0100
TZOFFSETFROM:+0200
END:STANDARD
END:VTIMEZONE
END:VCALENDAR
