BEGIN:VCALENDAR
PRODID:-//eluceo/ical//2.0/EN
VERSION:2.0
CALSCALE:GREGORIAN
BEGIN:VEVENT
UID:3a332b216a6f193ffb07f25a07cddb51
DTSTAMP:20260425T203804Z
SUMMARY:Exposición de maquetas. ¿Cómo podría ser el nuevo Campus?
DESCRIPTION:Descubre las maquetas desarrolladas por los estudiantes del má
 ster de Arquitectura Hospitalaria\, que exploran diferentes visiones para 
 el futuro Campus de Salut Clínic-UB. Un espacio para ver\, comentar e ima
 ginar cómo pueden ser los hospitales y los campus biomédicos de las pró
 ximas décadas. \n\nPúblico: Para toda la familia \n\nTipo de activid
 ad: Nou Clínic \n\nHorario: 9:30h-14:30h 
DTSTART;TZID=Europe/Madrid:20260509T093000
DTEND;TZID=Europe/Madrid:20260509T143000
LOCATION:Casanova - Rosselló
END:VEVENT
BEGIN:VTIMEZONE
TZID:Europe/Madrid
BEGIN:STANDARD
DTSTART:20260101T223804
TZNAME:CET
TZOFFSETTO:+0100
TZOFFSETFROM:+0100
END:STANDARD
BEGIN:DAYLIGHT
DTSTART:20260329T030000
TZNAME:CEST
TZOFFSETTO:+0200
TZOFFSETFROM:+0100
END:DAYLIGHT
BEGIN:STANDARD
DTSTART:20261025T020000
TZNAME:CET
TZOFFSETTO:+0100
TZOFFSETFROM:+0200
END:STANDARD
END:VTIMEZONE
END:VCALENDAR
