BEGIN:VCALENDAR
PRODID:-//eluceo/ical//2.0/EN
VERSION:2.0
CALSCALE:GREGORIAN
BEGIN:VEVENT
UID:cd75c916fc53f190d6f3e836fccf1337
DTSTAMP:20260424T221008Z
SUMMARY:Fòrum Salut Clínic 'Actualidad\, mitos y realidades de la infecci
 ón por VIH-1 en 2020'
DESCRIPTION:El jueves 27 de febrero a las 18:30 horas en la sala de actos 
 Farreras Valentí\, tendrá lugar la conferencia del Fòrum Salut Clínic
 \, Actualidad\, mitos y realidades de la infección por VIH-1 en 2020\, a 
 cargo del Dr. Juan Ambrosioni y de la Dra. Lorena de la Mora ambos Especia
 listas de la Unidad de SIDA y del Servicio de Enfermedades Infecciosas.
DTSTART;VALUE=DATE:20200227
LOCATION:Sala Farreras Valentí (Escalera 9\, Planta 3). C/ Villarroel\, 17
 0
END:VEVENT
BEGIN:VTIMEZONE
TZID:Europe/Madrid
BEGIN:STANDARD
DTSTART:20260101T001008
TZNAME:CET
TZOFFSETTO:+0100
TZOFFSETFROM:+0100
END:STANDARD
BEGIN:DAYLIGHT
DTSTART:20260329T030000
TZNAME:CEST
TZOFFSETTO:+0200
TZOFFSETFROM:+0100
END:DAYLIGHT
BEGIN:STANDARD
DTSTART:20261025T020000
TZNAME:CET
TZOFFSETTO:+0100
TZOFFSETFROM:+0200
END:STANDARD
END:VTIMEZONE
END:VCALENDAR
