BEGIN:VCALENDAR
PRODID:-//eluceo/ical//2.0/EN
VERSION:2.0
CALSCALE:GREGORIAN
BEGIN:VEVENT
UID:500419ebc7cd917a38e4b5dc7a4b0615
DTSTAMP:20260425T204128Z
SUMMARY:Fruta y chocolate para toda la familia. ¡Hasta agotar la fruta!
DESCRIPTION:A primera hora de la mañana los comerciantes del Mercat del 
 Ninot ofrecerán una chocolatada y fruta para coger fuerzas. Hasta
  que se acaben las raciones. \n\nPúblico: Para toda la familia \n\nTi
 po de actividad: Mercat del Ninot \n\nHorario: 10:00h 
DTSTART;TZID=Europe/Madrid:20260509T100000
DTEND;TZID=Europe/Madrid:20260509T110000
LOCATION:Casanova - Provença
END:VEVENT
BEGIN:VTIMEZONE
TZID:Europe/Madrid
BEGIN:STANDARD
DTSTART:20260101T224128
TZNAME:CET
TZOFFSETTO:+0100
TZOFFSETFROM:+0100
END:STANDARD
BEGIN:DAYLIGHT
DTSTART:20260329T030000
TZNAME:CEST
TZOFFSETTO:+0200
TZOFFSETFROM:+0100
END:DAYLIGHT
BEGIN:STANDARD
DTSTART:20261025T020000
TZNAME:CET
TZOFFSETTO:+0100
TZOFFSETFROM:+0200
END:STANDARD
END:VTIMEZONE
END:VCALENDAR
