BEGIN:VCALENDAR
PRODID:-//eluceo/ical//2.0/EN
VERSION:2.0
CALSCALE:GREGORIAN
BEGIN:VEVENT
UID:cd5ac2867eebae78bd00a5bdbc2999f4
DTSTAMP:20260425T203425Z
SUMMARY:Hablemos de la microbiota vaginal: Proyecto DIVA
DESCRIPTION:Charla sobre la microbiota vaginal y su papel en la salud de la
  mujer\, con presentación del Proyecto DIVA\, estudio del Servicio de Mic
 robiología que analiza la composición de la microbiota vaginal saludable
  a lo largo del ciclo menstrual. \n\nPúblico: Adultos en general\, mujer
 es \n\nTipo de actividad: Las voces de la salud \n\nHorario: 13:30 
DTSTART;TZID=Europe/Madrid:20260509T133000
DTEND;TZID=Europe/Madrid:20260509T140000
LOCATION:Casanova - Provença
END:VEVENT
BEGIN:VTIMEZONE
TZID:Europe/Madrid
BEGIN:STANDARD
DTSTART:20260101T223425
TZNAME:CET
TZOFFSETTO:+0100
TZOFFSETFROM:+0100
END:STANDARD
BEGIN:DAYLIGHT
DTSTART:20260329T030000
TZNAME:CEST
TZOFFSETTO:+0200
TZOFFSETFROM:+0100
END:DAYLIGHT
BEGIN:STANDARD
DTSTART:20261025T020000
TZNAME:CET
TZOFFSETTO:+0100
TZOFFSETFROM:+0200
END:STANDARD
END:VTIMEZONE
END:VCALENDAR
