BEGIN:VCALENDAR
PRODID:-//eluceo/ical//2.0/EN
VERSION:2.0
CALSCALE:GREGORIAN
BEGIN:VEVENT
UID:4d5ccab948ca3aa658288787868dcd22
DTSTAMP:20260425T203615Z
SUMMARY:Haz que tus latidos cuenten
DESCRIPTION:Infórmate sobre salud cardiovascular e insuficiencia cardíaca
  con trípticos\, gincana QR con cuestionario\, juegos\, dibujos para colo
 rear y premios útiles para el autocuidado y una dieta cardiosaludable. \
 n\nPúblico: Para toda la familia \n\nTipo de actividad: Carpas (en la
  Plaza) \n\nHorario: 9:30-14:30 
DTSTART;TZID=Europe/Madrid:20260509T093000
DTEND;TZID=Europe/Madrid:20260509T143000
LOCATION:Casanova - Còrsega
END:VEVENT
BEGIN:VTIMEZONE
TZID:Europe/Madrid
BEGIN:STANDARD
DTSTART:20260101T223615
TZNAME:CET
TZOFFSETTO:+0100
TZOFFSETFROM:+0100
END:STANDARD
BEGIN:DAYLIGHT
DTSTART:20260329T030000
TZNAME:CEST
TZOFFSETTO:+0200
TZOFFSETFROM:+0100
END:DAYLIGHT
BEGIN:STANDARD
DTSTART:20261025T020000
TZNAME:CET
TZOFFSETTO:+0100
TZOFFSETFROM:+0200
END:STANDARD
END:VTIMEZONE
END:VCALENDAR
