BEGIN:VCALENDAR
PRODID:-//eluceo/ical//2.0/EN
VERSION:2.0
CALSCALE:GREGORIAN
BEGIN:VEVENT
UID:56f74c4c8b93c95d7912c48914faadbe
DTSTAMP:20260425T203604Z
SUMMARY:Ictus: el tiempo es cerebro
DESCRIPTION:Actividad práctica sobre rehabilitación y prevención del ict
 us: medición de la presión arterial con enfermería y ejercicios de dest
 reza y fuerza con terapeuta ocupacional para conocer estrategias de recupe
 ración de habilidades. \n\nPúblico: Adultos en general \n\nTipo de a
 ctividad: Carpas (en la calzada) \n\nHorario: 9:30-14:30 
DTSTART;TZID=Europe/Madrid:20260509T093000
DTEND;TZID=Europe/Madrid:20260509T143000
LOCATION:Casanova - Còrsega
END:VEVENT
BEGIN:VTIMEZONE
TZID:Europe/Madrid
BEGIN:STANDARD
DTSTART:20260101T223604
TZNAME:CET
TZOFFSETTO:+0100
TZOFFSETFROM:+0100
END:STANDARD
BEGIN:DAYLIGHT
DTSTART:20260329T030000
TZNAME:CEST
TZOFFSETTO:+0200
TZOFFSETFROM:+0100
END:DAYLIGHT
BEGIN:STANDARD
DTSTART:20261025T020000
TZNAME:CET
TZOFFSETTO:+0100
TZOFFSETFROM:+0200
END:STANDARD
END:VTIMEZONE
END:VCALENDAR
