BEGIN:VCALENDAR
PRODID:-//eluceo/ical//2.0/EN
VERSION:2.0
CALSCALE:GREGORIAN
BEGIN:VEVENT
UID:937e54c40abf9a1b25967b3466240e1e
DTSTAMP:20260425T203804Z
SUMMARY:Identificación e investigación sobre restos cadavéricos
DESCRIPTION:Inscripción obligatoria\n\n\n\nInscripciones turno 10:30h\n\n\
 nInscripciones turno 11:45h\n\n\nInscripciones turno 13:00h\n\n\n\nActivid
 ad guiada para introducir a los participantes en la identificación de res
 tos cadavéricos a partir del caso histórico de la familia Romanov. \n\n
 Público: Para toda la familia \n\nTipo de actividad: Visitas guiadas
  \n\nPlazas disponibles: 20 (por turno)\n\nDuración: 45' 
DTSTART;TZID=Europe/Madrid:20260509T103000
DTEND;TZID=Europe/Madrid:20260509T130000
LOCATION:Facultad
END:VEVENT
BEGIN:VTIMEZONE
TZID:Europe/Madrid
BEGIN:STANDARD
DTSTART:20260101T223804
TZNAME:CET
TZOFFSETTO:+0100
TZOFFSETFROM:+0100
END:STANDARD
BEGIN:DAYLIGHT
DTSTART:20260329T030000
TZNAME:CEST
TZOFFSETTO:+0200
TZOFFSETFROM:+0100
END:DAYLIGHT
BEGIN:STANDARD
DTSTART:20261025T020000
TZNAME:CET
TZOFFSETTO:+0100
TZOFFSETFROM:+0200
END:STANDARD
END:VTIMEZONE
END:VCALENDAR
