BEGIN:VCALENDAR
PRODID:-//eluceo/ical//2.0/EN
VERSION:2.0
CALSCALE:GREGORIAN
BEGIN:VEVENT
UID:66a7aecfc4f657decd5c72778da47cde
DTSTAMP:20260423T121704Z
SUMMARY:IDIBAPS SEMINAR: Linking spatial biology and plasma proteomics to d
 evelop a liquid biopsy for liver transplant rejection
DESCRIPTION:Juliet Emamaullee\, MD\, PhD\nUniversity of Rochester Medical C
 enter\n\nPresentado por Ernest Hidalgo y Virginia Hernández-Gea.
DTSTART;TZID=Europe/Madrid:20260511T150000
DTEND;TZID=Europe/Madrid:20260511T160000
LOCATION:Auditorio Esteve\, Centre Esther Koplowitz. C/Rosselló 149-153\, 
 08036 Barcelona
END:VEVENT
BEGIN:VTIMEZONE
TZID:Europe/Madrid
BEGIN:STANDARD
DTSTART:20260101T141704
TZNAME:CET
TZOFFSETTO:+0100
TZOFFSETFROM:+0100
END:STANDARD
BEGIN:DAYLIGHT
DTSTART:20260329T030000
TZNAME:CEST
TZOFFSETTO:+0200
TZOFFSETFROM:+0100
END:DAYLIGHT
BEGIN:STANDARD
DTSTART:20261025T020000
TZNAME:CET
TZOFFSETTO:+0100
TZOFFSETFROM:+0200
END:STANDARD
END:VTIMEZONE
END:VCALENDAR
